1.5625
0
0
-1.5625
170937.769024
431338.082882
