1.5625
0
0
-1.5625
251207.446024
603755.451795
