1.5625
0
0
-1.5625
175059.224024
585036.430878
