1.5625
0
0
-1.5625
140474.166024
379317.249055
