1.5625
0
0
-1.5625
186730.367024
534539.062638
