1.5625
0
0
-1.5625
133126.793024
520689.949969
