1.5625
0
0
-1.5625
196072.628024
316283.101732
