1.5625
0
0
-1.5625
217611.385024
580782.88387
