1.5625
0
0
-1.5625
108751.347024
487097.353008
