1.5625
0
0
-1.5625
176477.876024
578428.554165
