1.5625
0
0
-1.5625
229451.866024
461361.260217
