1.5625
0
0
-1.5625
244560.556024
551529.469618
