1.5625
0
0
-1.5625
243486.089024
482287.200417
