1.5625
0
0
-1.5625
38017.5270236
386976.86865
