1.5625
0
0
-1.5625
273181.138024
563331.721138
