1.5625
0
0
-1.5625
213598.508024
439641.514091
