1.5625
0
0
-1.5625
111975.792024
436403.518594
