1.5625
0
0
-1.5625
225048.148024
436489.740949
