1.5625
0
0
-1.5625
139709.818024
561711.215465
