1.5625
0
0
-1.5625
220394.513024
585614.758063
