1.5625
0
0
-1.5625
208422.984024
457273.930906
