1.5625
0
0
-1.5625
249358.981024
553216.024445
