1.5625
0
0
-1.5625
49896.4170236
421880.201283
