1.5625
0
0
-1.5625
166489.171024
362541.956102
