1.5625
0
0
-1.5625
166385.183024
363932.252063
