1.5625
0
0
-1.5625
180921.695024
612319.418307
