1.5625
0
0
-1.5625
147285.995024
438496.929685
