1.5625
0
0
-1.5625
111517.695024
383113.924854
