1.5625
0
0
-1.5625
100132.796024
512039.205961
