1.5625
0
0
-1.5625
211259.910024
474743.896697
