1.5625
0
0
-1.5625
102392.461024
484541.976283
