1.5625
0
0
-1.5625
241980.998024
527512.085295
