1.5625
0
0
-1.5625
219616.651024
500522.616035
