1.5625
0
0
-1.5625
235276.118024
572476.299724
