1.5625
0
0
-1.5625
126333.992024
529205.659476
