1.5625
0
0
-1.5625
196318.740024
589902.008366
