1.5625
0
0
-1.5625
195147.695024
569547.498882
