1.5625
0
0
-1.5625
224320.289024
516145.208429
