1.5625
0
0
-1.5625
81420.6860236
450166.832016
