1.5625
0
0
-1.5625
143579.963024
465117.766697
