1.5625
0
0
-1.5625
232032.972024
508677.89374
