1.5625
0
0
-1.5625
75472.6860236
409058.302283
