1.5625
0
0
-1.5625
250795.759024
533875.044654
