1.5625
0
0
-1.5625
59985.9320236
426398.395177
