1.5625
0
0
-1.5625
170490.493024
438880.623996
