1.5625
0
0
-1.5625
212052.936024
445826.721437
