1.5625
0
0
-1.5625
20939.5130236
401198.655906
