1.5625
0
0
-1.5625
179792.907024
494678.695213
