1.5625
0
0
-1.5625
101685.353024
426619.403488
