1.5625
0
0
-1.5625
128518.732024
416045.227331
